BEGIN:VCALENDAR
VERSION:2.0
PRODID:-//Department Of Education//8ba6cf1e-5866-492d-b517-31dab6bdbc73
BEGIN:VTIMEZONE
TZID:Australia/Sydney
TZURL:http://tzurl.org/zoneinfo-outlook/Australia/Sydney
X-LIC-LOCATION:Australia/Sydney
BEGIN:STANDARD
TZOFFSETFROM:+1100
TZOFFSETTO:+1000
TZNAME:AEST
DTSTART:19700405T030000
RRULE:FREQ=YEARLY;BYMONTH=4;BYDAY=1SU
END:STANDARD
BEGIN:DAYLIGHT
TZOFFSETFROM:+1000
TZOFFSETTO:+1100
TZNAME:AEDT
DTSTART:19701004T020000
RRULE:FREQ=YEARLY;BYMONTH=10;BYDAY=1SU
END:DAYLIGHT
END:VTIMEZONE
CALSCALE:GREGORIAN
X-WR-TIMEZONE:Australia/Sydney
BEGIN:VEVENT
DTSTART;VALUE=DATE:20200302
DTEND;VALUE=DATE:20200303
DTSTAMP:20200302T000000Z
UID:85229e07-209f-422e-8333-b6263f48473e
LOCATION:HPS
SUMMARY;LANGUAGE=en-us:Life Education Years K-6
SEQUENCE:0
DESCRIPTION:Life Education sessions which form part of the PDHPE curriculum for all students.
END:VEVENT
TRANSP:TRANSPARENT
END:VCALENDAR
