BEGIN:VCALENDAR
VERSION:2.0
PRODID:-//Department Of Education//e1cea62f-1a18-4169-9d47-442fdea81aff
BEGIN:VTIMEZONE
TZID:Australia/Sydney
TZURL:http://tzurl.org/zoneinfo-outlook/Australia/Sydney
X-LIC-LOCATION:Australia/Sydney
BEGIN:STANDARD
TZOFFSETFROM:+1100
TZOFFSETTO:+1000
TZNAME:AEST
DTSTART:19700405T030000
RRULE:FREQ=YEARLY;BYMONTH=4;BYDAY=1SU
END:STANDARD
BEGIN:DAYLIGHT
TZOFFSETFROM:+1000
TZOFFSETTO:+1100
TZNAME:AEDT
DTSTART:19701004T020000
RRULE:FREQ=YEARLY;BYMONTH=10;BYDAY=1SU
END:DAYLIGHT
END:VTIMEZONE
CALSCALE:GREGORIAN
X-WR-TIMEZONE:Australia/Sydney
BEGIN:VEVENT
DTSTART;VALUE=DATE:20200403
DTEND;VALUE=DATE:20200404
DTSTAMP:20200403T000000Z
UID:4f0b0190-ee74-4f0c-979a-833990afc41d
LOCATION:Gloria Park Hazelbrook
SUMMARY;LANGUAGE=en-us:Cross Country carnival
SEQUENCE:0
DESCRIPTION:Cross Country
END:VEVENT
TRANSP:TRANSPARENT
END:VCALENDAR
