BEGIN:VCALENDAR
VERSION:2.0
PRODID:-//Department Of Education//5c936e26-c727-41c7-b0f2-556b1be86d23
BEGIN:VTIMEZONE
TZID:Australia/Sydney
TZURL:http://tzurl.org/zoneinfo-outlook/Australia/Sydney
X-LIC-LOCATION:Australia/Sydney
BEGIN:STANDARD
TZOFFSETFROM:+1100
TZOFFSETTO:+1000
TZNAME:AEST
DTSTART:19700405T030000
RRULE:FREQ=YEARLY;BYMONTH=4;BYDAY=1SU
END:STANDARD
BEGIN:DAYLIGHT
TZOFFSETFROM:+1000
TZOFFSETTO:+1100
TZNAME:AEDT
DTSTART:19701004T020000
RRULE:FREQ=YEARLY;BYMONTH=10;BYDAY=1SU
END:DAYLIGHT
END:VTIMEZONE
CALSCALE:GREGORIAN
X-WR-TIMEZONE:Australia/Sydney
BEGIN:VEVENT
DTSTART;VALUE=DATE:20200401
DTEND;VALUE=DATE:20200402
DTSTAMP:20200401T000000Z
UID:14664354-b5c3-44ba-a9d6-f1ada9022553
LOCATION:HPS
SUMMARY;LANGUAGE=en-us:K-2 Easter hat parade
SEQUENCE:0
DESCRIPTION:K-2 Easter hat parade
END:VEVENT
TRANSP:TRANSPARENT
END:VCALENDAR
