BEGIN:VCALENDAR
VERSION:2.0
PRODID:-//Department Of Education//7c266763-2beb-49e1-ad7e-54282c77cd71
BEGIN:VTIMEZONE
TZID:Australia/Sydney
TZURL:http://tzurl.org/zoneinfo-outlook/Australia/Sydney
X-LIC-LOCATION:Australia/Sydney
BEGIN:STANDARD
TZOFFSETFROM:+1100
TZOFFSETTO:+1000
TZNAME:AEST
DTSTART:19700405T030000
RRULE:FREQ=YEARLY;BYMONTH=4;BYDAY=1SU
END:STANDARD
BEGIN:DAYLIGHT
TZOFFSETFROM:+1000
TZOFFSETTO:+1100
TZNAME:AEDT
DTSTART:19701004T020000
RRULE:FREQ=YEARLY;BYMONTH=10;BYDAY=1SU
END:DAYLIGHT
END:VTIMEZONE
CALSCALE:GREGORIAN
X-WR-TIMEZONE:Australia/Sydney
BEGIN:VEVENT
DTSTART;VALUE=DATE:20200408
DTEND;VALUE=DATE:20200409
DTSTAMP:20200408T000000Z
UID:3ea59de3-2ee7-4502-ad1e-c97603ee33b4
LOCATION:HPS
SUMMARY;LANGUAGE=en-us:School photo day
SEQUENCE:0
DESCRIPTION:School photo day
END:VEVENT
TRANSP:TRANSPARENT
END:VCALENDAR
