BEGIN:VCALENDAR
VERSION:2.0
PRODID:-//Department Of Education//1647078d-583b-4b7a-922f-fc7fa084a0db
BEGIN:VTIMEZONE
TZID:Australia/Sydney
TZURL:http://tzurl.org/zoneinfo-outlook/Australia/Sydney
X-LIC-LOCATION:Australia/Sydney
BEGIN:STANDARD
TZOFFSETFROM:+1100
TZOFFSETTO:+1000
TZNAME:AEST
DTSTART:19700405T030000
RRULE:FREQ=YEARLY;BYMONTH=4;BYDAY=1SU
END:STANDARD
BEGIN:DAYLIGHT
TZOFFSETFROM:+1000
TZOFFSETTO:+1100
TZNAME:AEDT
DTSTART:19701004T020000
RRULE:FREQ=YEARLY;BYMONTH=10;BYDAY=1SU
END:DAYLIGHT
END:VTIMEZONE
CALSCALE:GREGORIAN
X-WR-TIMEZONE:Australia/Sydney
BEGIN:VEVENT
DTSTART;VALUE=DATE:20200428
DTEND;VALUE=DATE:20200429
DTSTAMP:20200428T000000Z
UID:4a20f0de-a2e8-464a-8a4b-c7319144412f
LOCATION:HPS
SUMMARY;LANGUAGE=en-us:Term 2 commences 
SEQUENCE:0
DESCRIPTION:Term 2 
END:VEVENT
TRANSP:TRANSPARENT
END:VCALENDAR
